BEGIN:VCALENDAR
VERSION:2.0
PRODID:-//white duck - ECPv6.15.20//NONSGML v1.0//EN
CALSCALE:GREGORIAN
METHOD:PUBLISH
X-WR-CALNAME:white duck
X-ORIGINAL-URL:https://whiteduck.de
X-WR-CALDESC:Veranstaltungen für white duck
REFRESH-INTERVAL;VALUE=DURATION:PT1H
X-Robots-Tag:noindex
X-PUBLISHED-TTL:PT1H
BEGIN:VTIMEZONE
TZID:Europe/Berlin
BEGIN:DAYLIGHT
TZOFFSETFROM:+0100
TZOFFSETTO:+0200
TZNAME:CEST
DTSTART:20230326T010000
END:DAYLIGHT
BEGIN:STANDARD
TZOFFSETFROM:+0200
TZOFFSETTO:+0100
TZNAME:CET
DTSTART:20231029T010000
END:STANDARD
BEGIN:DAYLIGHT
TZOFFSETFROM:+0100
TZOFFSETTO:+0200
TZNAME:CEST
DTSTART:20240331T010000
END:DAYLIGHT
BEGIN:STANDARD
TZOFFSETFROM:+0200
TZOFFSETTO:+0100
TZNAME:CET
DTSTART:20241027T010000
END:STANDARD
BEGIN:DAYLIGHT
TZOFFSETFROM:+0100
TZOFFSETTO:+0200
TZNAME:CEST
DTSTART:20250330T010000
END:DAYLIGHT
BEGIN:STANDARD
TZOFFSETFROM:+0200
TZOFFSETTO:+0100
TZNAME:CET
DTSTART:20251026T010000
END:STANDARD
END:VTIMEZONE
BEGIN:VEVENT
DTSTART;TZID=Europe/Berlin:20240701T090000
DTEND;TZID=Europe/Berlin:20240702T170000
DTSTAMP:20260420T122517
CREATED:20240502T144921Z
LAST-MODIFIED:20240502T144921Z
UID:22304-1719824400-1719939600@whiteduck.de
SUMMARY:Kubernetes Community Days Munich
DESCRIPTION:Wir freuen uns auf die KCD Munich 2024 Edition und laden Euch herzlich ein! \nEntwickler\, Plattformverantwortliche und andere IT-Profis\, die an Cloud-Native-Technologien interessiert sind\, werden vom KCD München angesprochen. Diese Community-Veranstaltung wird vom CNCF gefördert und zusammen mit unseren Freunden und Partnern Liquid Reply und QAware organisiert.
URL:https://whiteduck.de/event/kubernetes-community-days-munich-3/
LOCATION:smartvillage\, Rosenkavalierpl. 13\, Bogenhausen\, Bayern\, 81925\, Deutschland
CATEGORIES:Konferenz
ATTACH;FMTTYPE=image/png:https://whiteduck.de/wp-content/uploads/DB-WD-KCD-CityLogo-stacked-vertical.png
END:VEVENT
BEGIN:VEVENT
DTSTART;TZID=Europe/Berlin:20240701T090000
DTEND;TZID=Europe/Berlin:20240702T170000
DTSTAMP:20260420T122517
CREATED:20240502T145044Z
LAST-MODIFIED:20240502T145048Z
UID:22307-1719824400-1719939600@whiteduck.de
SUMMARY:Kubernetes Community Days Munich
DESCRIPTION:We are looking forward to the KCD Munich 2024 Edition and cordially invite you! \nDevelopers\, platform people and other IT professionals interested in cloud-native technologies will be addressed by KCD Munich. This community event is sponsored by the CNCF and organized together with our friends and partners Liquid Reply and QAware.
URL:https://whiteduck.de/event/kubernetes-community-days-munich-3/
LOCATION:smartvillage\, Rosenkavalierpl. 13\, Bogenhausen\, Bayern\, 81925\, Deutschland
CATEGORIES:Konferenz
ATTACH;FMTTYPE=image/png:https://whiteduck.de/wp-content/uploads/DB-WD-KCD-CityLogo-stacked-vertical.png
END:VEVENT
END:VCALENDAR