BEGIN:VCALENDAR
VERSION:2.0
PRODID:-//white duck - ECPv6.15.20//NONSGML v1.0//EN
CALSCALE:GREGORIAN
METHOD:PUBLISH
X-ORIGINAL-URL:https://whiteduck.de
X-WR-CALDESC:Veranstaltungen für white duck
REFRESH-INTERVAL;VALUE=DURATION:PT1H
X-Robots-Tag:noindex
X-PUBLISHED-TTL:PT1H
BEGIN:VTIMEZONE
TZID:Europe/Berlin
BEGIN:DAYLIGHT
TZOFFSETFROM:+0100
TZOFFSETTO:+0200
TZNAME:CEST
DTSTART:20240331T010000
END:DAYLIGHT
BEGIN:STANDARD
TZOFFSETFROM:+0200
TZOFFSETTO:+0100
TZNAME:CET
DTSTART:20241027T010000
END:STANDARD
BEGIN:DAYLIGHT
TZOFFSETFROM:+0100
TZOFFSETTO:+0200
TZNAME:CEST
DTSTART:20250330T010000
END:DAYLIGHT
BEGIN:STANDARD
TZOFFSETFROM:+0200
TZOFFSETTO:+0100
TZNAME:CET
DTSTART:20251026T010000
END:STANDARD
BEGIN:DAYLIGHT
TZOFFSETFROM:+0100
TZOFFSETTO:+0200
TZNAME:CEST
DTSTART:20260329T010000
END:DAYLIGHT
BEGIN:STANDARD
TZOFFSETFROM:+0200
TZOFFSETTO:+0100
TZNAME:CET
DTSTART:20261025T010000
END:STANDARD
END:VTIMEZONE
BEGIN:VEVENT
DTSTART;TZID=Europe/Berlin:20251210T150000
DTEND;TZID=Europe/Berlin:20251210T160000
DTSTAMP:20260424T124119
CREATED:20250925T142412Z
LAST-MODIFIED:20250925T142412Z
UID:24506-1765378800-1765382400@whiteduck.de
SUMMARY:Fit für 2026: Neue Impulse und Trends in Agentic AI & DevOps
DESCRIPTION:Dieses Webinar fasst die wichtigsten Entwicklungen zusammen und teilt praxisnahe Erkenntnisse sowie bewährte Best Practices. Weiterhin diskutieren wir was uns im Jahr 2026 erwartet. \nAgenda: \n\nAgentic AI und DevOps steigern die Effizienz und definieren die Zukunft der Softwareentwicklung\nNeue KI-Technologien und Copilot-Funktionen\nModerne Architekturen und Best Practices auf Azure werden wichtiger\n\nSpeakers: \nMartin Brandl (CTO\, white duck) \nNico Meisenzahl (COO\, white duck) \nZur Anmeldung und Details.
URL:https://whiteduck.de/event/fit-fuer-2026-neue-impulse-und-trends-in-agentic-ai-devops/
CATEGORIES:Webinar
ATTACH;FMTTYPE=image/png:https://whiteduck.de/wp-content/uploads/ADN-Webinar-3.png
END:VEVENT
END:VCALENDAR