BEGIN:VCALENDAR
VERSION:2.0
PRODID:-//white duck - ECPv6.15.20//NONSGML v1.0//EN
CALSCALE:GREGORIAN
METHOD:PUBLISH
X-WR-CALNAME:white duck
X-ORIGINAL-URL:https://whiteduck.de/en/
X-WR-CALDESC:Events for white duck
REFRESH-INTERVAL;VALUE=DURATION:PT1H
X-Robots-Tag:noindex
X-PUBLISHED-TTL:PT1H
BEGIN:VTIMEZONE
TZID:Europe/Berlin
BEGIN:DAYLIGHT
TZOFFSETFROM:+0100
TZOFFSETTO:+0200
TZNAME:CEST
DTSTART:20250330T010000
END:DAYLIGHT
BEGIN:STANDARD
TZOFFSETFROM:+0200
TZOFFSETTO:+0100
TZNAME:CET
DTSTART:20251026T010000
END:STANDARD
BEGIN:DAYLIGHT
TZOFFSETFROM:+0100
TZOFFSETTO:+0200
TZNAME:CEST
DTSTART:20260329T010000
END:DAYLIGHT
BEGIN:STANDARD
TZOFFSETFROM:+0200
TZOFFSETTO:+0100
TZNAME:CET
DTSTART:20261025T010000
END:STANDARD
BEGIN:DAYLIGHT
TZOFFSETFROM:+0100
TZOFFSETTO:+0200
TZNAME:CEST
DTSTART:20270328T010000
END:DAYLIGHT
BEGIN:STANDARD
TZOFFSETFROM:+0200
TZOFFSETTO:+0100
TZNAME:CET
DTSTART:20271031T010000
END:STANDARD
END:VTIMEZONE
BEGIN:VEVENT
DTSTART;TZID=Europe/Berlin:20260612T090000
DTEND;TZID=Europe/Berlin:20260612T110000
DTSTAMP:20260422T152228
CREATED:20260309T115918Z
LAST-MODIFIED:20260309T115923Z
UID:25161-1781254800-1781262000@whiteduck.de
SUMMARY:KI Weißwurst Breakfast
DESCRIPTION:The next AI Weißwurst Breakfast on the topic of Live Hijack & Zero Trust Agents will take place on 12.06.2026. \nTwo practical presentations by IT experts will shed light on current challenges and solutions in the field of AI and cyber security. \nLectures & Speakers: \nNico Meisenzahl\, white duck GmbH: When AI becomes a gateway – Live hijack of an Agentic AI system \nLeander Reimer\, QAware GmbH: Zero Trust Agents: Secure AI Workloads with OPA and Kubernetes \nTo the free registration
URL:https://whiteduck.de/en/event/ki-weisswurst-breakfast-2/
LOCATION:Stellwerk18\, Eduard-Rüber-Str. 7\, Stellwerk18\, 83022\, Deutschland
CATEGORIES:Workshop-Day
ATTACH;FMTTYPE=image/jpeg:https://whiteduck.de/wp-content/uploads/KI-Weisswurstfruehstueck-2026.jpg
END:VEVENT
BEGIN:VEVENT
DTSTART;TZID=Europe/Berlin:20260629T080000
DTEND;TZID=Europe/Berlin:20260630T180000
DTSTAMP:20260422T152228
CREATED:20260309T120652Z
LAST-MODIFIED:20260309T120658Z
UID:25169-1782720000-1782842400@whiteduck.de
SUMMARY:Cloud Native Summit Munich 2026
DESCRIPTION:The fifth edition of the Cloud Native Summit Munich will take place in June 2026. For all those who are interested in cloud native\, AI and open source topics.  \nBe there and get inspired! \nAll details are on our CNS Munich website.
URL:https://whiteduck.de/en/event/cloud-native-summit-munich-2026/
LOCATION:smartvillage\, Rosenkavalierpl. 13\, Bogenhausen\, Bayern\, 81925\, Deutschland
CATEGORIES:Conference
ATTACH;FMTTYPE=image/png:https://whiteduck.de/wp-content/uploads/DB-WD-CNS-MeetupGrafik.png
END:VEVENT
BEGIN:VEVENT
DTSTART;TZID=Europe/Berlin:20260929T080000
DTEND;TZID=Europe/Berlin:20260930T170000
DTSTAMP:20260422T152228
CREATED:20260313T091247Z
LAST-MODIFIED:20260313T091253Z
UID:25205-1790668800-1790787600@whiteduck.de
SUMMARY:Cloud Native Days Austria
DESCRIPTION:We are looking forward to the Cloud Native Austria Days and expect great sessions as well as networking with the cloud\, open source community. \n“Agentic AI Under Attack: Live Demos of Exploits Through Autonomy and Trust” is the title of the session by our COO Nico Meisenzahl. \nAI agents make decisions\, invoke tools\, and trust data without human review. However\, this autonomy creates a new and largely misunderstood attack surface. In this demo-based talk\, we show how agent-based AI systems can be hijacked without code exploits. Only text\, tools and trust are used.    \nUsing live demos\, we explore three real-world classes of vulnerabilities from the OWASP Top 10 for AI: \n– Indirect prompt injection\, where untrusted content silently manipulates\n the agent’s decisions- Tool/MCP poisoning\, where malicious tool descriptions hijack the agent’s behavior and expose\n the entire context- RAG poisoning\, where internal knowledge leads to ongoing data exfiltration \nNo slides. No theory. Demo only! With practical DevSecOps lessons on why classic security controls fail as soon as AI agents act on your behalf.
URL:https://whiteduck.de/en/event/cloud-native-days-austria/
LOCATION:Cineplexx Wienerberg\, Wienerbergstraße 11\, Wien\, 1100\, Austria
CATEGORIES:Conference
ATTACH;FMTTYPE=image/jpeg:https://whiteduck.de/wp-content/uploads/cloud-native-days-austria-.jpg
END:VEVENT
END:VCALENDAR