BEGIN:VCALENDAR
VERSION:2.0
PRODID:-//white duck - ECPv6.15.20//NONSGML v1.0//EN
CALSCALE:GREGORIAN
METHOD:PUBLISH
X-ORIGINAL-URL:https://whiteduck.de/en/
X-WR-CALDESC:Events for white duck
REFRESH-INTERVAL;VALUE=DURATION:PT1H
X-Robots-Tag:noindex
X-PUBLISHED-TTL:PT1H
BEGIN:VTIMEZONE
TZID:Europe/Berlin
BEGIN:DAYLIGHT
TZOFFSETFROM:+0100
TZOFFSETTO:+0200
TZNAME:CEST
DTSTART:20240331T010000
END:DAYLIGHT
BEGIN:STANDARD
TZOFFSETFROM:+0200
TZOFFSETTO:+0100
TZNAME:CET
DTSTART:20241027T010000
END:STANDARD
BEGIN:DAYLIGHT
TZOFFSETFROM:+0100
TZOFFSETTO:+0200
TZNAME:CEST
DTSTART:20250330T010000
END:DAYLIGHT
BEGIN:STANDARD
TZOFFSETFROM:+0200
TZOFFSETTO:+0100
TZNAME:CET
DTSTART:20251026T010000
END:STANDARD
BEGIN:DAYLIGHT
TZOFFSETFROM:+0100
TZOFFSETTO:+0200
TZNAME:CEST
DTSTART:20260329T010000
END:DAYLIGHT
BEGIN:STANDARD
TZOFFSETFROM:+0200
TZOFFSETTO:+0100
TZNAME:CET
DTSTART:20261025T010000
END:STANDARD
END:VTIMEZONE
BEGIN:VEVENT
DTSTART;TZID=Europe/Berlin:20250709T150000
DTEND;TZID=Europe/Berlin:20250709T160000
DTSTAMP:20260420T125325
CREATED:20250620T095559Z
LAST-MODIFIED:20250620T095928Z
UID:24155-1752073200-1752076800@whiteduck.de
SUMMARY:From Infrastructure to Innovation - The Benefits of Cloud-Native Development and AI
DESCRIPTION:Your path to modern and intelligent software development: In this webinar\, we will show how you can take the next step in innovation through cloud-native development and the use of AI. Learn how Azure helps you build applications more efficiently\, how generative AI opens up new opportunities with Azure OpenAI\, and how you can take developer productivity to the next level with GitHub Copilot and the power of AI-based development.  \nThis is what you can expect: \n\nCloud-native application development with Azure – advantages and added value\nGenerative AI with Azure OpenAI – Possibilities and opportunities\nIncrease developer productivity with GitHub and GitHub Copilot\nActionable insights: How to use cloud and AI for innovative projects\n\n➡️ Register now for the webinar \nSpeaker: \nNico Meisenzahl (COO\, white duck)
URL:https://whiteduck.de/en/event/from-infrastructure-to-innovation-the-benefits-of-cloud-native-development-and-ai-3/
LOCATION:Wien
CATEGORIES:Webinar
ATTACH;FMTTYPE=image/png:https://whiteduck.de/wp-content/uploads/CSP2-Webinar-09-juli-25.png
END:VEVENT
BEGIN:VEVENT
DTSTART;TZID=Europe/Berlin:20250721T080000
DTEND;TZID=Europe/Berlin:20250722T170000
DTSTAMP:20260420T125325
CREATED:20250602T160214Z
LAST-MODIFIED:20250602T160220Z
UID:24030-1753084800-1753203600@whiteduck.de
SUMMARY:Cloud Native Summit Munich
DESCRIPTION:In July 2025\, the cloud native community will meet in Munich. Come\, join us!  \nNew name. Same mission! CNS Munich is organized by the community for the community! The Cloud Native Summit (CNS) in Munich is a local\, community-organized event that brings together users and technologists from the open source and cloud-native communities. This is the fourth edition in Munich that aims to bring the community together. The event provides a platform for professionals and experts of all levels and backgrounds to learn\, network\, and share their knowledge of cloud-native technologies.      \nWhen? -On the  21. 21 – 22 July\, 2025 at smartvillage\, Bogenhausen. \nAll details are on our website and you can buy the tickets here .
URL:https://whiteduck.de/en/event/cloud-native-summit-munich/
LOCATION:smartvillage\, Rosenkavalierpl. 13\, Bogenhausen\, Bayern\, 81925\, Deutschland
CATEGORIES:Conference
ATTACH;FMTTYPE=image/png:https://whiteduck.de/wp-content/uploads/DB-WD-KCD-Logo-2025-MeetupGrafik.png
END:VEVENT
END:VCALENDAR